BEGIN:VCALENDAR
VERSION:2.0
PRODID:-//recicladora/calendar//NONSGML v1.0//ES
CALSCALE:GREGORIAN
BEGIN:VEVENT
UID:69ecc8b873d04
DTSTAMP:20260314T180000Z
DTSTART:20260314T170000Z
DTEND:20260314T180000Z
SUMMARY:Apertura de ‘Quino\, Mafalda y el medio ambiente’ en el Pozo Julia de Fabero (León)
DESCRIPTION:El próximo 14 de marzo\, a las 18:00 horas\, abre al público la exposición ‘Quino\, Mafalda y el medio ambiente’ en el Pozo Julia de Fabero. Esta muestra invita a los visitantes a explorar cómo el icónico personaje de Mafalda\, creado por el célebre ilustrador argentino Quino\, abordó temas medio ambientales y climáticos con su [&hellip\;]
LOCATION:Pozo Julia, Fabero
END:VEVENT
END:VCALENDAR